BEGIN:VCALENDAR
VERSION:2.0
METHOD:PUBLISH
CALSCALE:GREGORIAN
PRODID:-//Helios Calendar//EN
X-FROM-URL:https://www.aamu.edu/calendar/index.php?eID=4439
X-WR-RELCALID:AAMU Calendar Homecoming Game: AAMU Bulldogs vs. MS Valley State 20251011T140000
X-WR-TIMEZONE:Europe/London
X-WR-CALNAME:AAMU Calendar
BEGIN:VEVENT
URL;VALUE=URI:https://www.aamu.edu/calendar/index.php?eID=4439
DTSTART:20251011T140000
DTEND:20251011T140000
SUMMARY:Homecoming Game: AAMU Bulldogs vs. MS Valley State
DESCRIPTION:Bulldog Pride. Game Day Energy. Unmatched Tradition.It all leads up to this—the Homecoming Game\, where Bulldog spirit takes center stage! Join us at Louis Crews Stadium as the Alabama A&M... For complete event details please visit:  https://www.aamu.edu/calendar/?eID=4439\n______________________________\nEvent Downloaded Powered by OU Calendar
LOCATION:Louis Crews Stadium -  \, \, AL  
CATEGORIES:AAMU Calendar Events
PRIORITY:0
TRANSP:TRANSPARENT
END:VEVENT
END:VCALENDAR