BEGIN:VCALENDAR
VERSION:2.0
METHOD:PUBLISH
CALSCALE:GREGORIAN
PRODID:-//Helios Calendar//EN
X-FROM-URL:https://www.aamu.edu/calendar/index.php?eID=4440
X-WR-RELCALID:AAMU Calendar Homecoming Concert 20251011T193000
X-WR-TIMEZONE:Europe/London
X-WR-CALNAME:AAMU Calendar
BEGIN:VEVENT
URL;VALUE=URI:https://www.aamu.edu/calendar/index.php?eID=4440
DTSTART:20251011T193000
DTEND:20251011T193000
SUMMARY:Homecoming Concert
DESCRIPTION:The Biggest Night of the Week. The Hottest Artists on One Stage.Get ready for the most electrifying event of Homecoming Week—the Homecoming Concert! This year’s lineup is stacked with... For complete event details please visit:  https://www.aamu.edu/calendar/?eID=4440\n______________________________\nEvent Downloaded Powered by OU Calendar
LOCATION:Von Braun Center - Propst Arena - 700 Monroe St SW \, Huntsville\, AL  35801
CATEGORIES:AAMU Calendar Events
PRIORITY:0
TRANSP:TRANSPARENT
END:VEVENT
END:VCALENDAR