BEGIN:VCALENDAR
VERSION:2.0
METHOD:PUBLISH
CALSCALE:GREGORIAN
PRODID:-//Helios Calendar//EN
X-FROM-URL:https://www.aamu.edu/calendar/index.php?eID=4524
X-WR-RELCALID:AAMU Calendar Wellness Starts Here: Diabetes Prevention Journey 20260331T140000
X-WR-TIMEZONE:Europe/London
X-WR-CALNAME:AAMU Calendar
BEGIN:VEVENT
URL;VALUE=URI:https://www.aamu.edu/calendar/index.php?eID=4524
DTSTART:20260331T140000
DTEND:20260331T150000
SUMMARY:Wellness Starts Here: Diabetes Prevention Journey
DESCRIPTION:Join the Virginia Caples Lifelong Learning Institute for a virtual series that is a motivating\, health-focused program designed to help people build sustainable habits that reduce their risk... For complete event details please visit:  https://www.aamu.edu/calendar/?eID=4524\n______________________________\nEvent Downloaded Powered by OU Calendar
LOCATION:Zoom Meeting - Zoom Meeting \, Huntsville\, AL  35810
CATEGORIES:AAMU Calendar Events
PRIORITY:0
TRANSP:TRANSPARENT
END:VEVENT
END:VCALENDAR