BEGIN:VCALENDAR
VERSION:2.0
METHOD:PUBLISH
CALSCALE:GREGORIAN
PRODID:-//Helios Calendar//EN
X-FROM-URL:https://www.aamu.edu/calendar/index.php?eID=4570
X-WR-RELCALID:AAMU Calendar Labor Day Holiday 20260907
X-WR-TIMEZONE:Europe/London
X-WR-CALNAME:AAMU Calendar
BEGIN:VEVENT
URL;VALUE=URI:https://www.aamu.edu/calendar/index.php?eID=4570
DTSTART;VALUE=DATE:20260907
DTEND;VALUE=DATE:20260908
SUMMARY:Labor Day Holiday
DESCRIPTION:Labor Day Holiday For complete event details please visit:  https://www.aamu.edu/calendar/?eID=4570\n______________________________\nEvent Downloaded Powered by OU Calendar
LOCATION:AAMU Campus - 4900 Meridian Street \, Huntsville\, AL USA 35811
CATEGORIES:AAMU Calendar Events
PRIORITY:0
TRANSP:TRANSPARENT
END:VEVENT
END:VCALENDAR