BEGIN:VCALENDAR
VERSION:2.0
METHOD:PUBLISH
CALSCALE:GREGORIAN
PRODID:-//Helios Calendar//EN
X-FROM-URL:https://www.aamu.edu/calendar/index.php?eID=636
X-WR-RELCALID:AAMU Calendar Final Submission of Teacher Education Clearance to Graduate Studies for Summer Clearance 20190725T040000
X-WR-TIMEZONE:Europe/London
X-WR-CALNAME:AAMU Calendar
BEGIN:VEVENT
URL;VALUE=URI:https://www.aamu.edu/calendar/index.php?eID=636
DTSTART:20190725T040000
DTEND:20190725T235900
SUMMARY:Final Submission of Teacher Education Clearance to Graduate Studies for Summer Clearance
DESCRIPTION:Final Submission of Teacher Education Clearance to Graduate Studies for Summer Clearance  For complete event details please visit:  https://www.aamu.edu/calendar/?eID=636\n______________________________\nEvent Downloaded Powered by OU Calendar
LOCATION:Not Specified
 -  \, \,   
CATEGORIES:AAMU Calendar Events
PRIORITY:0
TRANSP:TRANSPARENT
END:VEVENT
END:VCALENDAR