BEGIN:VCALENDAR
VERSION:2.0
METHOD:PUBLISH
CALSCALE:GREGORIAN
PRODID:-//Helios Calendar//EN
X-FROM-URL:https://www.aamu.edu/calendar/index.php?eID=688
X-WR-RELCALID:AAMU Calendar Memorial Day 20190527T160000
X-WR-TIMEZONE:Europe/London
X-WR-CALNAME:AAMU Calendar
BEGIN:VEVENT
URL;VALUE=URI:https://www.aamu.edu/calendar/index.php?eID=688
DTSTART:20190527T160000
DTEND:20190527T170000
SUMMARY:Memorial Day
DESCRIPTION:Memorial Day For complete event details please visit:  https://www.aamu.edu/calendar/?eID=688\n______________________________\nEvent Downloaded Powered by OU Calendar
LOCATION:N/A -  \, \,   
CATEGORIES:AAMU Calendar Events
PRIORITY:0
TRANSP:TRANSPARENT
END:VEVENT
END:VCALENDAR